Workbook
Name _FAC1: [1]สรุป!$C$307
Name CCTV: [3]boq!#REF!
Name CCTV: [3]boq!#REF!
Name DB12_MM.: #N/A
Name DB16_MM.: #N/A
Name DB20_MM.: #N/A
Name DB25_MM.: #N/A
Name DB28_MM.: #N/A
Name factor_table: #N/A
Name factor_table: #N/A
Name MATV: [3]boq!#REF!
Name MATV: [3]boq!#REF!
Name MATV1: [3]boq!#REF!
Name MATV1: [3]boq!#REF!
Name PRINT_AREA_MI: '[4]LOTUS-EE1'!#REF!
Name WEIGHT: #N/A
Name กราวน์: [3]boq!#REF!
Name กราวน์: [3]boq!#REF!
Name โครงการ__อาคาร_พักแพทย์_พยาบาล_เภสัชกร_และ_ทันตแพทย์: #N/A
Name ภาพและเสียง: [3]boq!#REF!
Name ภาพและเสียง: [3]boq!#REF!
Name แสง: [3]boq!#REF!
Name แสง: [3]boq!#REF!
Name แสงสว่างห้องประชุม: [3]boq!#REF!
Name แสงสว่างห้องประชุม: [3]boq!#REF!

Sheet ใบสรุปราคา
B2: สรุปผลการประมาณราคาค่าก่อสร้างโครงการปรับปรุงศูนย์บริการโรคผิวหนังรูปแบบพิเศษ
B3: ส่วนราชการ สถาบันโรคผิวหนัง กรมการแพทย์ กระทรวงสาธารณสุข โทร. 0 2354 8033
C4: โครงการก่อสร้าง | E4: ปรับปรุงศูนย์บริการโรคผิวหนังรูปแบบพิเศษ
C5: สถานที่ก่อสร้าง | E5: อาคารนวัตกรรมฯ ชั้น 3 กรมการแพทย์ กระทรวงสาธารณสุข
C6: หน่วยงานออกแบบแปลนและรายการ | F6: แบบเอกชน บริษัท สถาปนิกเก้าสิบ จำกัด
C7: แบบเลขที่ | D7: IOD 68-1 | F7: เอกสารเลขที่ | G7: - | H7: พื้นที่อาคาร | I7: =BOQ!K4 -> 387 | J7: ตร.ม.
C8: ประมาณราคาตามแบบ ปร.4 | E8: จำนวน | F8: 10 | H8: จำนวนชั้น | I8: - | J8: ชั้น
C9: ราคาค่าวัสดุ สำนักดัชนีเศรษฐกิจการค้า กระทรวงพาณิชย์ กรุงเทพมหานคร | H9: ประจำเดือน | I9: มิถุนายน 2568
C10: ราคาค่าแรงงานตามบัญชีค่าแรงงาน หนังสือกรมบัญชีกลาง ที่ กค 0433.2/ว135 ลงวันที่ 3 มีนาคม 2566
C11: ประมาณราคาเมื่อเดือน เมษายน 2568 | H11: ปรับราคาเมื่อเดือน กรกฎาคม 2568
B12: หลักเกณฑ์การคำนวณราคากลางงานก่อสร้าง ตามที่กรมบัญชีกลางประกาศอัตราดอกเบี้ยเงินกู้สำหรับใช้เป็นเกณฑ์ในการคำนวณ ราคากลางงานก่อสร้าง
B13: และปรับปรุงตาราง Factor F ใหม่ หนังสือกระทรวงการคลังด่วนที่สุดที่ กค 0433.2/ว499 ลงวันที่ 28 สิงหาคม 2566
B14: FACTOR . F ประเภทงานอาคาร เงื่อนไข - เงินล่วงหน้าจ่าย 0% , - เงินประกันผลงานหัก 0% , - ดอกเบี้ยเงินกู้ 7% , - ค่าภาษีมูลค่าเพิ่ม 7%
B16: ลำดับที่ | C16: รายการ | G16: ราคาค่าก่อสร้าง | I16: หมายเหตุ
B18: 1 | C18: ค่างานส่วนที่ 1 ค่างานต้นทุน (คำนวณในราคาทุน) | H18: =สรุปส่วนงาน!E39 -> 0
C19: ราคารวมค่า Factor F | F19: =+Factor!C14 -> 1.308 | H19: =H18*$F$19 -> 0
B20: 2 | C20: ค่างานส่วนที่ 2 ครุภัณฑ์จัดซื้อ หรือสั่งซื้อ | H20: =สรุปส่วนงาน!E45 -> 0
C21: ราคารวมค่าภาษีมูลค่าเพิ่ม (VAT) | F21: 7% | H21: =H20*1.07 -> 0
B22: 3 | C22: ค่างานส่วนที่ 3 ค่าใช้จ่ายพิเศษตามข้อกำหนด (ถ้ามี) | H22: =สรุปส่วนงาน!E50 -> 0
B24: สรุป | C24: รวมค่าก่อสร้างเป็นเงินทั้งสิ้น (1)+(2)+(3) | H24: =H19+H21+H22 -> 0
B25: คิดเป็นเงินทั้งสิ้นโดยประมาณ | H25: =H24 -> 0
D26: (ตัวอักษร) | G26: =BAHTTEXT(H25) -> ศูนย์บาทถ้วน
C27: พื้นที่อาคาร | D27: =I7 -> 387 | E27: ตร.ม. | F27: เฉลี่ยราคา | H27: =H25/D27 -> 0 | I27: บาท / ตร.ม.
H48: =H25 -> 0
G49: งวดที่ 1 | H49: 0.05 | I49: =H48*H49 -> 0
G50: งวดที่ 2 | H50: 0.15 | I50: =H48*H50 -> 0
G51: งวดที่ 3 | H51: 0.6 | I51: =H48*H51 -> 0
G52: งวดที่ 4 | H52: 0.2 | I52: =H48*H52 -> 0
H53: =SUM(H49:H52) -> 1 | I53: =SUM(I49:I52) -> 0

Sheet สรุปส่วนงาน
B1: แบบสรุปค่าก่อสร้างของงานปรับปรุงศูนย์บริการโรคผิวหนังรูปแบบพิเศษ
B2: โครงการก่อสร้าง | D2: ปรับปรุงศูนย์บริการโรคผิวหนังรูปแบบพิเศษ | E2: แบบเลขที่ | F2: IOD 68-1
B3: สถานที่ก่อสร้าง | D3: อาคารนวัตกรรมชั้น 3 กรมการแพทย์ กระทรวงสาธารณสุข | E3: เอกสารเลขที่ | F3: -
B4: ลำดับ | C4: รายการ | E4: จำนวนเงิน | F4: หมายเหตุ
C5: ส่วนที่ 1 ค่างานต้นทุน (คำนวณในราคาทุน)
B6: 1 | C6: กลุ่มงานที่ 1
C7: (คิดเฉพาะค่าวัสดุและค่าแรงงานหรือทุนซึ่งยังไม่รวมค่าอำนวยการ ดอกเบี้ย กำไร และภาษี)
C8: 1.1 | D8: งานโครงสร้างวิศวกรรม
D9: 1.1.1 งานโครงสร้าง คสล. | E9: =BOQ!L16 -> 0
C10: 1.2 | D10: งานสถาปัตยกรรม
D11: 1.2.1 งานรื้อถอน | E11: =BOQ!L25 -> 0
D12: 1.2.2 งานฝ้าเพดาน | E12: =BOQ!L34 -> 0
D13: 1.2.3 งานผนัง - ผิวผนัง | E13: =BOQ!L42 -> 0
D14: 1.2.4 งานพื้น - ผิวพื้น | E14: =BOQ!L50 -> 0
D15: 1.2.5 งานประตู - หน้าต่าง | E15: =BOQ!L64 -> 0
D16: 1.2.6 งานทาสี | E16: =BOQ!L72 -> 0
D17: 1.2.7 งานเบ็ดเตล็ด | E17: =BOQ!L89 -> 0
C18: 1.3 | D18: งานระบบประปา สุขาภิบาล และดับเพลิง
D19: 1.3.1 งานระบบประปา-สุขาภิบาล | E19: =BOQ!L139 -> 0
D20: 1.3.2 ระบบดับเพลิง | E20: =BOQ!L156 -> 0
C21: 1.4 | D21: งานระบบไฟฟ้า และสื่อสาร
D22: 1.4.1 งานระบบไฟฟ้า | E22: =BOQ!L199 -> 0
D23: 1.4.2 งานระบบแจ้งเหตุเพลิงไหม้อัตโนมัติ | E23: =BOQ!L208 -> 0
D24: 1.4.3 งานระบบเครือข่ายคอมพิวเตอร์และโทรศัพท์ IP PHONE | E24: =BOQ!L239 -> 0
D25: 1.4.4 งานระบบกล้องวงจรปิด | E25: =BOQ!L249 -> 0
D26: 1.4.5 งานระบบเสียงประกาศ | E26: =BOQ!L259 -> 0
C27: 1.5 | D27: ระบบปรับอากาศและระบายอากาศ
D28: 1.5.1 งานระบบปรับอากาศและระบายอากาศ | E28: =BOQ!L345 -> 0
D29: รวมค่างานกลุ่มงานที่ 1 | E29: =SUM(E9:E28) -> 0
B30: 2 | C30: กลุ่มงานที่ 2
C31: (คิดเฉพาะค่าวัสดุและค่าแรงงานหรือทุนซึ่งยังไม่รวมค่าอำนวยการ ดอกเบี้ย กำไร และภาษี)
C32: 2.1 | D32: งานครุภัณฑ์จัดจ้าง หรือสั่งทำ | E32: =BOQ!L421 -> 0
D33: รวมค่างานกลุ่มงานที่ 2 | E33: =SUM(E32:E32) -> 0
B34: 3 | C34: กลุ่มงานที่ 3
C35: (คิดเฉพาะค่าวัสดุและค่าแรงงานหรือทุนซึ่งยังไม่รวมค่าอำนวยการ ดอกเบี้ย กำไร และภาษี)
C36: 3.1 | D36: งานภูมิทัศน์ | E36: 0
C37: 3.2 | D37: งานผังบริเวณและงานก่อสร้างประกอบอื่น ๆ | E37: 0
D38: รวมค่างานกลุ่มงานที่ 3 | E38: =SUM(E36:E37) -> 0
C39: รวมค่างานส่วนที่ 1 | E39: =SUM(E38,E33,E29) -> 0
C40: ส่วนที่ 2 หมวดงานครุภัณฑ์จัดซื้อหรือสั่งซื้อ
...

Sheet BOQ
B1: บัญชีแสดงรายการปรับปรุงศูนย์บริการโรคผิวหนังรูปแบบพิเศษ
B2: โครงการก่อสร้าง | E2: ปรับปรุงศูนย์บริการโรคผิวหนังรูปแบบพิเศษ | J2: แบบเลขที่ | K2: IOD 68-1
B3: สถานที่ก่อสร้าง | E3: อาคารนวัตกรรมฯชั้น 3 กรมการแพทย์ กระทรวงสาธารณสุข | J3: เอกสารเลขที่ | K3: -
B4: ผู้ประมาณราคา | F4: ปรับราคาเดือน | J4: พื้นที่อาคาร | K4: =G19 -> 387 | L4: ตร.ม.
B5: ผู้ปรับราคา | J5: จำนวนชั้น | K5: - | L5: ชั้น
J6: สถาปนิก
B7: ผู้ตรวจสอบ | J7: วิศวกร
B9: ลำดับ | C9: รายการ | F9: หน่วย | G9: จำนวน | H9: ค่าวัสดุ | J9: ค่าแรงงาน | L9: รวมเงิน
H10: ต่อหน่วย | I10: เป็นเงิน | J10: ต่อหน่วย | K10: เป็นเงิน
C11: ส่วนที่ 1 ค่างานต้นทุน (คำนวณในราคาทุน)
D12: 1. กลุ่มงานที่ 1
D13: 1.1 งานโครงสร้างวิศวกรรม
C14: 1.1.1 งานโครงสร้าง
E15: รวม (1.1.1) งานโครงสร้าง
C16: 1.2 งานสถาปัตยกรรม
C17: 1.2.1 งานรื้อถอน
B18: 1 | C18: รื้อวงกบ ประตูอลูมิเนียม | F18: ตร.ม. | G18: 24
B19: 2 | C19: รื้อฝ้าเพดาน T-Bar พร้อมโครงเคร่า | F19: ตร.ม. | G19: 387
B20: 3 | C20: รื้องานระบบไฟฟ้า ไฟฟ้าสื่อสาร พร้อมสายไฟฟ้า(ดวงโคม-เต้ารับ) | F20: งาน | G20: 1
B21: 4 | C21: รื้องานระบบดับเพลิง | F21: งาน | G21: 1
B22: 5 | C22: รื้อถอนเครื่องปรับอากาศพร้อมรีโมทต์คอนโทรล (ส่งคืน) | F22: ชุด | G22: 6
B23: 6 | C23: รื้อถอนจุดตัด/ต่อ/เชื่อม ท่อน้ำยาแอร์เดิม | F23: จุด | G23: 5
B24: 7 | C24: รื้อถอนพัดลมระบายอากาศตามแบบกำหนด (ส่งคืน) | F24: ชุด | G24: 4
E25: รวม (1.2.1) งานรื้อถอน
C26: 1.2.2 งานฝ้าเพดาน
B27: 1 | C27: ฝ้าเพดานแผ่นยิปซั่มบอร์ดหนา 9 มม.ชนิดขอบลาด ฉาบรอยต่อเรียบ | F27: ตร.ม. | G27: 387
C28: ทาสี โครงคร่าวเหล็กชุบสังกะสี หนาไม่ต่ำกว่าเบอร์ 24 ระ บบ C-Line
C29: ระยะโครงคร่าวโดยประมาณ 0.40x1.00 ม. พร้อมอุปกรณ์ยึดแขวน
C30: ตามมาตรฐานผู้ผลิต
B31: 2 | C31: Step ฝ้าเพดาน สูง 0.20 ม. | F31: ม. | G31: =7.2+7.2+7.2+2.2+0.2 -> 24
B32: 3 | C32: แผ่นยิปซั่มเล่นระดับสำเร็จรูป รูป L 100x300x9มม. | F32: ม. | G32: =G31 -> 24
E34: รวม (1.2.2) งานฝ้าเพดาน
C35: 1.2.3 งานผนัง
B36: 1 | C36: ผนังโครงคร่าวโลหะรูปตัวซี C49 (C-STUD) @0.60ม. กรุแผ่นสมาร์ทบอร์ด | F36: ตร.ม. | G36: =(108+60+20+9+29.5+15.3+50.7+19.8+13.8+10.2)*1.05+0.88 -> 353.995
C37: หนา 8 มม.ทั้ง 2 ด้าน
B38: 2 | C38: โครงคร่าวโลหะรูปตัวซี C49 (C-STUD) @0.60ม. จากฝ้าเพดานถึงท้องพื้น | F38: ตร.ม. | G38: 136
B39: 3 | C39: ฉาบปูนเสริมตาข่ายใยแก้วปิดทับด้วย (SKIM COAT) | F39: ตร.ม. | G39: =(48.5+4.2+27+29.4+20.1+15.3+9+13.8+26.4)*1.05+0.61 -> 203.995
B40: 4 | C40: ผนังWall Paper หลังผ้ากันไฟลาม | F40: ตร.ม. | G40: =18+9+37.5+6+16.2+18+6.6+7.5+36+30.9+12+1.3+9 -> 208
E42: รวม (1.2.3) งานผนัง
C43: 1.2.4 งานพื้น - ผิวพื้น
...

Sheet Factor
K1: -(3)- | L1: chack % factor.f
B2: การคำนวณหาค่า Factor-F เฉลี่ย | F2: ตาราง Factor F งานอาคาร | L2: หมายเหตุ -(1)- = C14 , -(2)- = L5 , -(3)- = N5
B3: หนังสือกระทรวงการคลังที่ กค 0433.2/ว499 ลว. 28 สิงหาคม 2566 | F3: เงินล่วงหน้าจ่าย | G3: 0 | L3: เงื่อนไข % ปรับเปลี่ยนตามหนังสือกระทรวงการคลังที่ กค. ต่างๆ
F4: เงินประกันผลงานหัก | G4: 0 | I4: -(1)
B5: ราคาค่าวัสดุและค่าแรงที่ประมาณราคาได้ | D5: =สรุปส่วนงาน!E39 -> 0 | E5: บาท | F5: ดอกเบี้ยเงินกู้ | G5: 0.07 | I5: -(2)
B6: Factor F = | C6: D - ((D-E)*(A-B)/(C-B)) | F6: ค่าภาษีมูลค่าเพิ่ม | G6: 0.07 | I6: -(3)
I7: -(4)
B8: B | C8: 5000000 | D8: B : ค่างานต้นทุนต่ำ | F8: ค่างานต้นทุน | G8: Factor F | I8: -(5)
B9: A | C9: =D5 -> 0 | D9: A : ค่างานต้นทุนที่ประมาณราคาได้ | F9: (บาท)
B10: C | C10: 10000000 | D10: C : ค่างานต้นทุนสูง | F10: 500000 | G10: 1.3091
F11: 1000000 | G11: 1.3067
B12: D | C12: =VLOOKUP(C8,$F$10:$G$33,2,FALSE) -> 1.302 | D12: D : Factor F ทุนต่ำ | F12: 2000000 | G12: 1.3051
B13: E | C13: =VLOOKUP(C10,$F$10:$G$33,2,FALSE) -> 1.296 | D13: E : Factor F ทุนสูง | F13: 5000000 | G13: 1.302
B14: Factor F = | C14: =ROUND(C12-(((C12-C13)*(C9-C8))/(C10-C8)),4) -> 1.308 | D14: นำค่านี้ไปใช้ในการคำนวณ | F14: 10000000 | G14: 1.296
F15: 15000000 | G15: 1.2611
B16: A * Factor F | C16: =C9*C14 -> 0 | F16: 20000000 | G16: 1.2535
F17: 25000000 | G17: 1.2265
F18: 30000000 | G18: 1.2181
F19: 40000000 | G19: 1.2177
F20: 50000000 | G20: 1.2176
F21: 60000000 | G21: 1.2078
F22: 70000000 | G22: 1.2067
F23: 80000000 | G23: 1.2067
F24: 90000000 | G24: 1.2066
F25: 100000000 | G25: 1.2066
F26: 150000000 | G26: 1.2039
F27: 200000000 | G27: 1.2039
F28: 250000000 | G28: 1.2031
... F33: 500000001 | G33: 1.1805
